BEGIN:VCALENDAR
VERSION:2.0
PRODID:-//Decoy Down - ECPv6.15.20//NONSGML v1.0//EN
CALSCALE:GREGORIAN
METHOD:PUBLISH
X-WR-CALNAME:Decoy Down
X-ORIGINAL-URL:https://www.decoydown.com
X-WR-CALDESC:Events for Decoy Down
REFRESH-INTERVAL;VALUE=DURATION:PT1H
X-Robots-Tag:noindex
X-PUBLISHED-TTL:PT1H
BEGIN:VTIMEZONE
TZID:UTC
BEGIN:STANDARD
TZOFFSETFROM:+0000
TZOFFSETTO:+0000
TZNAME:UTC
DTSTART:20250101T000000
END:STANDARD
END:VTIMEZONE
BEGIN:VEVENT
DTSTART;TZID=UTC:20260905T080000
DTEND;TZID=UTC:20260930T170000
DTSTAMP:20260422T223242
CREATED:20210626T154827Z
LAST-MODIFIED:20260131T063637Z
UID:20379-1788595200-1790787600@www.decoydown.com
SUMMARY:Early Teal / Early Waterfowl
DESCRIPTION:Early Teal / Early Waterfowl\nEarly September (7–14 days)Short season before main duck migration begins.
URL:https://www.decoydown.com/event/paintball-tournament/
LOCATION:Midwest\, OK\, United States
CATEGORIES:Seminar
ATTACH;FMTTYPE=image/png:https://www.decoydown.com/wp-content/uploads/2026/01/colorful-wild-wood-duck-male-swimming-on-water-in-2026-01-06-08-53-10-utc.png
END:VEVENT
BEGIN:VEVENT
DTSTART;TZID=UTC:20260901T080000
DTEND;TZID=UTC:20261031T170000
DTSTAMP:20260422T223242
CREATED:20210627T154647Z
LAST-MODIFIED:20260131T064044Z
UID:20377-1788249600-1793466000@www.decoydown.com
SUMMARY:Dove
DESCRIPTION:Dove\nSeptember 1 – October 30Often split into early and late segments. Considered the opener for fall hunting.
URL:https://www.decoydown.com/event/dove/
LOCATION:Midwest\, OK\, United States
CATEGORIES:Seminar
ATTACH;FMTTYPE=image/png:https://www.decoydown.com/wp-content/uploads/2021/06/cape-turtle-doves-at-a-waterhole-kalahari-desert-2026-01-07-01-38-05-utc.png
END:VEVENT
BEGIN:VEVENT
DTSTART;TZID=UTC:20260401T080000
DTEND;TZID=UTC:20260901T170000
DTSTAMP:20260422T223242
CREATED:20260422T160003Z
LAST-MODIFIED:20260131T063258Z
UID:20388-1775030400-1788282000@www.decoydown.com
SUMMARY:Spring Turkey
DESCRIPTION:Midwest Hunting Season Calendar (Typical Dates)\nSpring Turkey\nApril 1 – May 15Peak gobbling season during breeding. Morning hunts are most productive.
URL:https://www.decoydown.com/event/spring-turkey/
LOCATION:Midwest\, OK\, United States
CATEGORIES:Seminar
ATTACH;FMTTYPE=image/jpeg:https://www.decoydown.com/wp-content/uploads/2026/04/turkey-in-meadow-at-mexico-2026-01-08-06-52-24-utc-scaled.jpg
END:VEVENT
BEGIN:VEVENT
DTSTART;TZID=UTC:20260401T080000
DTEND;TZID=UTC:20260826T170000
DTSTAMP:20260422T223242
CREATED:20210623T155728Z
LAST-MODIFIED:20260131T063251Z
UID:20386-1775030400-1787763600@www.decoydown.com
SUMMARY:Spring Bear
DESCRIPTION:Spring Bear (Limited Midwest States)\nApril – JuneOnly offered in select northern states. Targets bears post-hibernation.
URL:https://www.decoydown.com/event/spring-bear/
LOCATION:Midwest\, OK\, United States
CATEGORIES:Seminar
ATTACH;FMTTYPE=image/png:https://www.decoydown.com/wp-content/uploads/2021/06/black-bear-beside-the-road-2026-01-08-07-45-40-utc.png
END:VEVENT
END:VCALENDAR