BEGIN:VCALENDAR
VERSION:2.0
PRODID:-//Decoy Down - ECPv6.15.20//NONSGML v1.0//EN
CALSCALE:GREGORIAN
METHOD:PUBLISH
X-ORIGINAL-URL:https://www.decoydown.com
X-WR-CALDESC:Events for Decoy Down
REFRESH-INTERVAL;VALUE=DURATION:PT1H
X-Robots-Tag:noindex
X-PUBLISHED-TTL:PT1H
BEGIN:VTIMEZONE
TZID:UTC
BEGIN:STANDARD
TZOFFSETFROM:+0000
TZOFFSETTO:+0000
TZNAME:UTC
DTSTART:20250101T000000
END:STANDARD
END:VTIMEZONE
BEGIN:VEVENT
DTSTART;TZID=UTC:20260915T080000
DTEND;TZID=UTC:20261115T170000
DTSTAMP:20260420T033033
CREATED:20210625T155117Z
LAST-MODIFIED:20260131T063450Z
UID:20381-1789459200-1794762000@www.decoydown.com
SUMMARY:Archery Deer
DESCRIPTION:Archery Deer\nSeptember 15 – November 15Low-pressure season focused on pre-rut and early rut movement.
URL:https://www.decoydown.com/event/archery-deer/
LOCATION:Midwest\, OK\, United States
CATEGORIES:Seminar
ATTACH;FMTTYPE=image/png:https://www.decoydown.com/wp-content/uploads/2026/01/white-tailed-deer-odocoileus-virginianus-also-kn-2026-01-07-23-48-06-utc.png
END:VEVENT
END:VCALENDAR