BEGIN:VCALENDAR
VERSION:2.0
PRODID:-//Decoy Down - ECPv6.15.20//NONSGML v1.0//EN
CALSCALE:GREGORIAN
METHOD:PUBLISH
X-ORIGINAL-URL:https://www.decoydown.com
X-WR-CALDESC:Events for Decoy Down
REFRESH-INTERVAL;VALUE=DURATION:PT1H
X-Robots-Tag:noindex
X-PUBLISHED-TTL:PT1H
BEGIN:VTIMEZONE
TZID:UTC
BEGIN:STANDARD
TZOFFSETFROM:+0000
TZOFFSETTO:+0000
TZNAME:UTC
DTSTART:20250101T000000
END:STANDARD
END:VTIMEZONE
BEGIN:VEVENT
DTSTART;TZID=UTC:20260101T080000
DTEND;TZID=UTC:20270101T170000
DTSTAMP:20260419T221039
CREATED:20210624T155455Z
LAST-MODIFIED:20260131T063222Z
UID:20384-1767254400-1798822800@www.decoydown.com
SUMMARY:Feral Hog (Where Legal)
DESCRIPTION:Feral Hog (Where Legal)\nYear-RoundNo closed season in many states. Managed as a nuisance species.
URL:https://www.decoydown.com/event/feralhog/
LOCATION:Midwest\, OK\, United States
CATEGORIES:Seminar
ATTACH;FMTTYPE=image/png:https://www.decoydown.com/wp-content/uploads/2021/06/family-of-wild-boar-with-adult-hairy-mother-and-li-2026-01-06-09-14-03-utc.png
END:VEVENT
END:VCALENDAR