BEGIN:VCALENDAR
VERSION:2.0
PRODID:-//Decoy Down - ECPv6.15.20//NONSGML v1.0//EN
CALSCALE:GREGORIAN
METHOD:PUBLISH
X-ORIGINAL-URL:https://www.decoydown.com
X-WR-CALDESC:Events for Decoy Down
REFRESH-INTERVAL;VALUE=DURATION:PT1H
X-Robots-Tag:noindex
X-PUBLISHED-TTL:PT1H
BEGIN:VTIMEZONE
TZID:UTC
BEGIN:STANDARD
TZOFFSETFROM:+0000
TZOFFSETTO:+0000
TZNAME:UTC
DTSTART:20250101T000000
END:STANDARD
END:VTIMEZONE
BEGIN:VEVENT
DTSTART;TZID=UTC:20260401T080000
DTEND;TZID=UTC:20260901T170000
DTSTAMP:20260422T220524
CREATED:20260422T160003Z
LAST-MODIFIED:20260131T063258Z
UID:20388-1775030400-1788282000@www.decoydown.com
SUMMARY:Spring Turkey
DESCRIPTION:Midwest Hunting Season Calendar (Typical Dates)\nSpring Turkey\nApril 1 – May 15Peak gobbling season during breeding. Morning hunts are most productive.
URL:https://www.decoydown.com/event/spring-turkey/
LOCATION:Midwest\, OK\, United States
CATEGORIES:Seminar
ATTACH;FMTTYPE=image/jpeg:https://www.decoydown.com/wp-content/uploads/2026/04/turkey-in-meadow-at-mexico-2026-01-08-06-52-24-utc-scaled.jpg
END:VEVENT
END:VCALENDAR